BEGIN:VCALENDAR
VERSION:2.0
PRODID:-//The Legacy Golf Club - ECPv6.15.18//NONSGML v1.0//EN
CALSCALE:GREGORIAN
METHOD:PUBLISH
X-WR-CALNAME:The Legacy Golf Club
X-ORIGINAL-URL:https://www.golflegacyresort.com
X-WR-CALDESC:Events for The Legacy Golf Club
REFRESH-INTERVAL;VALUE=DURATION:PT1H
X-Robots-Tag:noindex
X-PUBLISHED-TTL:PT1H
BEGIN:VTIMEZONE
TZID:UTC
BEGIN:STANDARD
TZOFFSETFROM:+0000
TZOFFSETTO:+0000
TZNAME:UTC
DTSTART:20240101T000000
END:STANDARD
END:VTIMEZONE
BEGIN:VEVENT
DTSTART;TZID=UTC:20251205T160000
DTEND;TZID=UTC:20251205T210000
DTSTAMP:20260419T205631
CREATED:20241215T185848Z
LAST-MODIFIED:20241215T190402Z
UID:10002409-1764950400-1764968400@www.golflegacyresort.com
SUMMARY:Prime Rib Friday Nights
DESCRIPTION:Treat yourself\, loved one or friend to our Prime Rib Special\, served every Friday from 4 PM to 9 PM. \nReservations fill up quickly\, so don’t wait—secure your spot today!
URL:https://www.golflegacyresort.com/event/prime-rib-friday-nights/2025-12-05/
LOCATION:The Legacy Golf Club\, 6808 S 32nd St\, Phoneix\, AZ\, 85042\, United States
END:VEVENT
BEGIN:VEVENT
DTSTART;TZID=UTC:20251205T173000
DTEND;TZID=UTC:20251205T203000
DTSTAMP:20260419T205631
CREATED:20251104T233036Z
LAST-MODIFIED:20251104T233254Z
UID:10003431-1764955800-1764966600@www.golflegacyresort.com
SUMMARY:Live Music
DESCRIPTION:
URL:https://www.golflegacyresort.com/event/live-music/2025-12-05/
LOCATION:The Legacy Golf Club\, 6808 S 32nd St\, Phoneix\, AZ\, 85042\, United States
END:VEVENT
BEGIN:VEVENT
DTSTART;TZID=UTC:20251206T090000
DTEND;TZID=UTC:20251206T100000
DTSTAMP:20260419T205631
CREATED:20241220T193341Z
LAST-MODIFIED:20250908T194257Z
UID:10002931-1765011600-1765015200@www.golflegacyresort.com
SUMMARY:RESORT GOLF CLINIC
DESCRIPTION:Join Our 1-Hour Resort Golf Clinic with Jon Maza!\nWhen: Every Saturday\, 9:00 AM – 10:00 AM\nCost: $25 per golfer \nRefine your skills with expert guidance in a fun and engaging session! \n📞 Register today by calling the Golf Shop at 602-305-5550. \nSpots are limited—secure yours now! \n \n  \n 
URL:https://www.golflegacyresort.com/event/resort-golf-clinic/2025-12-06/
LOCATION:The Legacy Golf Club\, 6808 S 32nd St\, Phoneix\, AZ\, 85042\, United States
END:VEVENT
BEGIN:VEVENT
DTSTART;TZID=UTC:20251212T160000
DTEND;TZID=UTC:20251212T210000
DTSTAMP:20260419T205631
CREATED:20241215T185848Z
LAST-MODIFIED:20241215T190402Z
UID:10002410-1765555200-1765573200@www.golflegacyresort.com
SUMMARY:Prime Rib Friday Nights
DESCRIPTION:Treat yourself\, loved one or friend to our Prime Rib Special\, served every Friday from 4 PM to 9 PM. \nReservations fill up quickly\, so don’t wait—secure your spot today!
URL:https://www.golflegacyresort.com/event/prime-rib-friday-nights/2025-12-12/
LOCATION:The Legacy Golf Club\, 6808 S 32nd St\, Phoneix\, AZ\, 85042\, United States
END:VEVENT
BEGIN:VEVENT
DTSTART;TZID=UTC:20251212T173000
DTEND;TZID=UTC:20251212T203000
DTSTAMP:20260419T205631
CREATED:20251104T233036Z
LAST-MODIFIED:20251104T233254Z
UID:10003432-1765560600-1765571400@www.golflegacyresort.com
SUMMARY:Live Music
DESCRIPTION:
URL:https://www.golflegacyresort.com/event/live-music/2025-12-12/
LOCATION:The Legacy Golf Club\, 6808 S 32nd St\, Phoneix\, AZ\, 85042\, United States
END:VEVENT
BEGIN:VEVENT
DTSTART;TZID=UTC:20251213T090000
DTEND;TZID=UTC:20251213T100000
DTSTAMP:20260419T205631
CREATED:20241220T193341Z
LAST-MODIFIED:20250908T194257Z
UID:10002932-1765616400-1765620000@www.golflegacyresort.com
SUMMARY:RESORT GOLF CLINIC
DESCRIPTION:Join Our 1-Hour Resort Golf Clinic with Jon Maza!\nWhen: Every Saturday\, 9:00 AM – 10:00 AM\nCost: $25 per golfer \nRefine your skills with expert guidance in a fun and engaging session! \n📞 Register today by calling the Golf Shop at 602-305-5550. \nSpots are limited—secure yours now! \n \n  \n 
URL:https://www.golflegacyresort.com/event/resort-golf-clinic/2025-12-13/
LOCATION:The Legacy Golf Club\, 6808 S 32nd St\, Phoneix\, AZ\, 85042\, United States
END:VEVENT
BEGIN:VEVENT
DTSTART;TZID=UTC:20251219T160000
DTEND;TZID=UTC:20251219T210000
DTSTAMP:20260419T205631
CREATED:20241215T185848Z
LAST-MODIFIED:20241215T190402Z
UID:10002411-1766160000-1766178000@www.golflegacyresort.com
SUMMARY:Prime Rib Friday Nights
DESCRIPTION:Treat yourself\, loved one or friend to our Prime Rib Special\, served every Friday from 4 PM to 9 PM. \nReservations fill up quickly\, so don’t wait—secure your spot today!
URL:https://www.golflegacyresort.com/event/prime-rib-friday-nights/2025-12-19/
LOCATION:The Legacy Golf Club\, 6808 S 32nd St\, Phoneix\, AZ\, 85042\, United States
END:VEVENT
BEGIN:VEVENT
DTSTART;TZID=UTC:20251219T173000
DTEND;TZID=UTC:20251219T203000
DTSTAMP:20260419T205631
CREATED:20251104T233036Z
LAST-MODIFIED:20251104T233254Z
UID:10003433-1766165400-1766176200@www.golflegacyresort.com
SUMMARY:Live Music
DESCRIPTION:
URL:https://www.golflegacyresort.com/event/live-music/2025-12-19/
LOCATION:The Legacy Golf Club\, 6808 S 32nd St\, Phoneix\, AZ\, 85042\, United States
END:VEVENT
BEGIN:VEVENT
DTSTART;TZID=UTC:20251220T090000
DTEND;TZID=UTC:20251220T100000
DTSTAMP:20260419T205631
CREATED:20241220T193341Z
LAST-MODIFIED:20250908T194257Z
UID:10002933-1766221200-1766224800@www.golflegacyresort.com
SUMMARY:RESORT GOLF CLINIC
DESCRIPTION:Join Our 1-Hour Resort Golf Clinic with Jon Maza!\nWhen: Every Saturday\, 9:00 AM – 10:00 AM\nCost: $25 per golfer \nRefine your skills with expert guidance in a fun and engaging session! \n📞 Register today by calling the Golf Shop at 602-305-5550. \nSpots are limited—secure yours now! \n \n  \n 
URL:https://www.golflegacyresort.com/event/resort-golf-clinic/2025-12-20/
LOCATION:The Legacy Golf Club\, 6808 S 32nd St\, Phoneix\, AZ\, 85042\, United States
END:VEVENT
BEGIN:VEVENT
DTSTART;TZID=UTC:20251226T160000
DTEND;TZID=UTC:20251226T210000
DTSTAMP:20260419T205631
CREATED:20241215T185848Z
LAST-MODIFIED:20241215T190402Z
UID:10002412-1766764800-1766782800@www.golflegacyresort.com
SUMMARY:Prime Rib Friday Nights
DESCRIPTION:Treat yourself\, loved one or friend to our Prime Rib Special\, served every Friday from 4 PM to 9 PM. \nReservations fill up quickly\, so don’t wait—secure your spot today!
URL:https://www.golflegacyresort.com/event/prime-rib-friday-nights/2025-12-26/
LOCATION:The Legacy Golf Club\, 6808 S 32nd St\, Phoneix\, AZ\, 85042\, United States
END:VEVENT
BEGIN:VEVENT
DTSTART;TZID=UTC:20251227T090000
DTEND;TZID=UTC:20251227T100000
DTSTAMP:20260419T205631
CREATED:20241220T193341Z
LAST-MODIFIED:20250908T194257Z
UID:10002934-1766826000-1766829600@www.golflegacyresort.com
SUMMARY:RESORT GOLF CLINIC
DESCRIPTION:Join Our 1-Hour Resort Golf Clinic with Jon Maza!\nWhen: Every Saturday\, 9:00 AM – 10:00 AM\nCost: $25 per golfer \nRefine your skills with expert guidance in a fun and engaging session! \n📞 Register today by calling the Golf Shop at 602-305-5550. \nSpots are limited—secure yours now! \n \n  \n 
URL:https://www.golflegacyresort.com/event/resort-golf-clinic/2025-12-27/
LOCATION:The Legacy Golf Club\, 6808 S 32nd St\, Phoneix\, AZ\, 85042\, United States
END:VEVENT
END:VCALENDAR