BEGIN:VCALENDAR
VERSION:2.0
PRODID:-//The Legacy Golf Club - ECPv6.15.18//NONSGML v1.0//EN
CALSCALE:GREGORIAN
METHOD:PUBLISH
X-ORIGINAL-URL:https://www.golflegacyresort.com
X-WR-CALDESC:Events for The Legacy Golf Club
REFRESH-INTERVAL;VALUE=DURATION:PT1H
X-Robots-Tag:noindex
X-PUBLISHED-TTL:PT1H
BEGIN:VTIMEZONE
TZID:UTC
BEGIN:STANDARD
TZOFFSETFROM:+0000
TZOFFSETTO:+0000
TZNAME:UTC
DTSTART:20230101T000000
END:STANDARD
END:VTIMEZONE
BEGIN:VEVENT
DTSTART;TZID=UTC:20240627T080000
DTEND;TZID=UTC:20240627T110000
DTSTAMP:20260419T124631
CREATED:20240221T204655Z
LAST-MODIFIED:20240221T205100Z
UID:10001162-1719475200-1719486000@www.golflegacyresort.com
SUMMARY:PGA Camp - Half Day
DESCRIPTION:
URL:https://www.golflegacyresort.com/event/pga-camp-half-day-2/2024-06-27/
LOCATION:AZ
END:VEVENT
BEGIN:VEVENT
DTSTART;TZID=UTC:20240627T080000
DTEND;TZID=UTC:20240627T130000
DTSTAMP:20260419T124631
CREATED:20240221T204359Z
LAST-MODIFIED:20240221T204445Z
UID:10001152-1719475200-1719493200@www.golflegacyresort.com
SUMMARY:PGA Camp - Full Day
DESCRIPTION:
URL:https://www.golflegacyresort.com/event/pga-camp-full-day-2/2024-06-27/
LOCATION:AZ
END:VEVENT
END:VCALENDAR